BEGIN:VCALENDAR
VERSION:2.0
PRODID:spatie/icalendar-generator
DESCRIPTION:Eventi da Avis Bernareggio
X-WR-CALDESC:Eventi da Avis Bernareggio
REFRESH-INTERVAL;VALUE=DURATION:PT1440M
X-PUBLISHED-TTL:PT1440M
BEGIN:VTIMEZONE
TZID:Europe/Rome
BEGIN:STANDARD
DTSTART:20251026T030000Z
TZOFFSETFROM:+0200
TZOFFSETTO:+0100
END:STANDARD
BEGIN:DAYLIGHT
DTSTART:20260329T020000Z
TZOFFSETFROM:+0100
TZOFFSETTO:+0200
END:DAYLIGHT
END:VTIMEZONE
BEGIN:VTIMEZONE
TZID:UTC
BEGIN:STANDARD
DTSTART:20250728T111236Z
TZOFFSETFROM:+0000
TZOFFSETTO:+0000
END:STANDARD
END:VTIMEZONE
BEGIN:VEVENT
UID:163-112
DTSTAMP:20260424T111236Z
SUMMARY:Giornata di donazione
LOCATION:AVIS di Bernareggio Via Dante 1  Bernareggio Monza Brianza 20881
ORGANIZER;CN=admin_avis:MAILTO:am@nb4.it
DTSTART;TZID=Europe/Rome:20260403T080000
DTEND;TZID=Europe/Rome:20260403T120000
X-ALT-DESC;FMTTYPE=TEXT/HTML:
CATEGORIES:Donazione
URL;VALUE=URI:https://avisbernareggio.it/eventi/giornata-di-donazione-110/
METHOD:PUBLISH
END:VEVENT
END:VCALENDAR